BEGIN:VCALENDAR
VERSION:2.0
PRODID:-//Daniele Radici - ECPv6.15.18//NONSGML v1.0//EN
CALSCALE:GREGORIAN
METHOD:PUBLISH
X-WR-CALNAME:Daniele Radici
X-ORIGINAL-URL:https://danieleradici.com
X-WR-CALDESC:Eventi per Daniele Radici
REFRESH-INTERVAL;VALUE=DURATION:PT1H
X-Robots-Tag:noindex
X-PUBLISHED-TTL:PT1H
BEGIN:VTIMEZONE
TZID:UTC
BEGIN:STANDARD
TZOFFSETFROM:+0000
TZOFFSETTO:+0000
TZNAME:UTC
DTSTART:20240101T000000
END:STANDARD
END:VTIMEZONE
BEGIN:VEVENT
DTSTART;TZID=UTC:20251113T090000
DTEND;TZID=UTC:20251113T173000
DTSTAMP:20260421T204717
CREATED:20251030T132110Z
LAST-MODIFIED:20251124T093043Z
UID:109-1763024400-1763055000@danieleradici.com
SUMMARY:Training Bricks & Dice - Milano\, 13 Novembre
DESCRIPTION:Una giornata di formazione per capire come progettare ed erogare workshop utilizzando mattoncini LEGO® e uno specifico set di dadi\n\nDa anni lavoriamo con metodologie che stimolano la creatività ed il pensiero laterale. Mattoncini\, carte illustrate\, trigger cards e dadi sono la nostra quotidianità. \nNel 2021 abbiamo voluto creare qualcosa di unico e nostro:  uno strumento composto da un kit di Dadi speciali creato ad hoc\, integrato con l’uso di mattoncini LEGO® per accompagnare consulenti e trainer verso tematiche di varia natura. \nGrazie a questo corso di formazione\, imparerai ad usare un nuovo strumento con il quale potrai far riflettere i tuoi colleghi e/o partecipanti su: \n\nstoria e utilizzo dei dadi\nla gestione dell’imprevisto\nl’importanza del fornire istruzioni (verbali o scritte)\, con diversi punti di vista\nla gestione delle risorse\nla teoria dei vincoli\nle difficoltà nel condividere una progettualità\n\nAbbiamo infatti creato dei format game-based che verranno spiegati e utilizzati in prima persona durante il nostro training. Grazie all’esperienza vissuta direttamente al corso\, scoprirai come applicarli direttamente nel tuo business per stimolare la conversazione su questi importanti argomenti. \nLa dinamica di gioco creata dall’utilizzo di Bricks&Dice consente di rendere partecipato ed ingaggiante il dialogo ed il lavoro di gruppo. \nA chi è rivolto questo training \nQuesto percorso è rivolto a freelance\, manager\, formatori\, coach e docenti che nella loro attività professionale sfruttano tecniche di facilitazione di varia natura con l’obiettivo di portare i loro colleghi\, studenti o clienti ad estrarre contenuti in modo meno “scontato e razionale” rispetto alla semplice trascrizione su un Post-it®. \nI tuoi Trainers \nQuesta sessione di training verrà condotta da Daniele Radici e Marco Saponaro. Entrambi i docenti fanno parte della crew di PlayFully. \n—————————– \n  \nImportante nota sull’uso dei Mattoncini LEGO® \nQuesto corso NON è un corso di formazione sul metodo LEGO® SERIOUS PLAY® o sugli strumenti LEGO® Education. \nNel caso il tuo interesse ricada sul metodo LEGO® SERIOUS PLAY®\, il consiglio che diamo è quello di affidarsi all’unico ente di rilievo in questo contesto: l’Associazione Master Trainer in The LEGO® SERIOUS PLAY® Method. Puoi trovare tutti i corsi in Europa attivi a questo link.
URL:https://danieleradici.com/event/bricks_and_dice/
LOCATION:Spaces Milano\, Via Pola\, 11\, Milano\, 20124\, Italy
ATTACH;FMTTYPE=image/jpeg:https://danieleradici.com/wp-content/uploads/2025/10/Bricks-And-Dice-scaled.jpg
END:VEVENT
END:VCALENDAR